BEGIN:VCALENDAR
VERSION:2.0
PRODID:-//juiceboxinteractive//NONSGML Events //EN
X-WR-CALNAME:The Englert Theatre - Events
X-WR-CALDESC:The Englert Theatre - Events
CALSCALE:GREGORIAN
TZID:America/Chicago
BEGIN:VEVENT
UID:event-1563@englert.org
DTSTART:20250314T003000Z
DTEND:20250314T033000Z
DTSTAMP:20250128T095403Z
SUMMARY:Buckethead
DESCRIPTION:
LOCATION:
END:VEVENT
END:VCALENDAR