BEGIN:VCALENDAR
VERSION:2.0
PRODID:-//juiceboxinteractive//NONSGML Events //EN
X-WR-CALNAME:The Englert Theatre - Events
X-WR-CALDESC:The Englert Theatre - Events
CALSCALE:GREGORIAN
TZID:America/Chicago
BEGIN:VEVENT
UID:event-1701@englert.org
DTSTART:20250420T003000Z
DTEND:20250420T023000Z
DTSTAMP:20250225T100000Z
SUMMARY:The Mystery Hour with Jeff Houghton
DESCRIPTION:
LOCATION:
END:VEVENT
END:VCALENDAR