BEGIN:VCALENDAR
VERSION:2.0
PRODID:-//juiceboxinteractive//NONSGML Events //EN
X-WR-CALNAME:The Englert Theatre - Events
X-WR-CALDESC:The Englert Theatre - Events
CALSCALE:GREGORIAN
TZID:America/Chicago
BEGIN:VEVENT
UID:event-1785@englert.org
DTSTART:20250625T003000Z
DTEND:20250625T023000Z
DTSTAMP:20250318T100000Z
SUMMARY:Steve Earle
DESCRIPTION:
LOCATION:
END:VEVENT
END:VCALENDAR