BEGIN:VCALENDAR
VERSION:2.0
PRODID:-//juiceboxinteractive//NONSGML Events //EN
X-WR-CALNAME:The Englert Theatre - Events
X-WR-CALDESC:The Englert Theatre - Events
CALSCALE:GREGORIAN
TZID:America/Chicago
BEGIN:VEVENT
UID:event-4158@englert.org
DTSTART:20260220T030000Z
DTEND:20260220T050000Z
DTSTAMP:20260106T110737Z
SUMMARY:Lip Critic
DESCRIPTION:
LOCATION:
END:VEVENT
END:VCALENDAR