BEGIN:VCALENDAR
VERSION:2.0
PRODID:-//juiceboxinteractive//NONSGML Events //EN
X-WR-CALNAME:The Englert Theatre - Events
X-WR-CALDESC:The Englert Theatre - Events
CALSCALE:GREGORIAN
TZID:America/Chicago
BEGIN:VEVENT
UID:event-4668@englert.org
DTSTART:20260501T233000Z
DTEND:20260502T020000Z
DTSTAMP:20260421T131951Z
SUMMARY:Hawkapellas
DESCRIPTION:
LOCATION:
END:VEVENT
END:VCALENDAR