BEGIN:VCALENDAR
VERSION:2.0
PRODID:-//juiceboxinteractive//NONSGML Events //EN
X-WR-CALNAME:The Englert Theatre - Events
X-WR-CALDESC:The Englert Theatre - Events
CALSCALE:GREGORIAN
TZID:America/Chicago
BEGIN:VEVENT
UID:event-4689@englert.org
DTSTART:20260723T003000Z
DTEND:20260723T023000Z
DTSTAMP:20260420T102105Z
SUMMARY:Aimee Mann
DESCRIPTION:
LOCATION:
END:VEVENT
END:VCALENDAR