BEGIN:VCALENDAR
VERSION:2.0
PRODID:-//juiceboxinteractive//NONSGML Events //EN
X-WR-CALNAME:The Englert Theatre - Events
X-WR-CALDESC:The Englert Theatre - Events
CALSCALE:GREGORIAN
TZID:America/Chicago
BEGIN:VEVENT
UID:event-4694@englert.org
DTSTART:20261114T013000Z
DTEND:20261114T033000Z
DTSTAMP:20260421T100000Z
SUMMARY:Blind Boys of Alabama
DESCRIPTION:
LOCATION:
END:VEVENT
END:VCALENDAR